{
 "currentVersion": 11.3,
 "cimVersion": "3.3.0",
 "serviceDescription": "Ortofoto anno 2010 risoluzione scala 1:2000",
 "mapName": "Ortofoto_2015UTM",
 "description": "Ortofoto anno 2010 risoluzione scala 1:2000",
 "copyrightText": "",
 "supportsDynamicLayers": false,
 "layers": [
  {
   "id": 0,
   "name": "volo2015_5000",
   "parentLayerId": -1,
   "defaultVisibility": true,
   "subLayerIds": null,
   "minScale": 250000,
   "maxScale": 0,
   "type": "Raster Layer",
   "supportsDynamicLegends": true
  }
 ],
 "tables": [],
 "spatialReference": {
  "wkid": 32632,
  "latestWkid": 32632,
  "xyTolerance": 0.001,
  "zTolerance": 0.001,
  "mTolerance": 0.001,
  "falseX": -5120900,
  "falseY": -9998100,
  "xyUnits": 4.504455473910538E8,
  "falseZ": -100000,
  "zUnits": 10000,
  "falseM": -100000,
  "mUnits": 10000
 },
 "singleFusedMapCache": true,
 "tileInfo": {
  "rows": 256,
  "cols": 256,
  "dpi": 96,
  "format": "Mixed",
  "compressionQuality": 75,
  "origin": {
   "x": -9497963.94301857,
   "y": 9997963.94301857
  },
  "spatialReference": {
   "wkid": 32632,
   "latestWkid": 32632,
   "xyTolerance": 0.001,
   "zTolerance": 0.001,
   "mTolerance": 0.001,
   "falseX": -5120900,
   "falseY": -9998100,
   "xyUnits": 4.504455473910538E8,
   "falseZ": -100000,
   "zUnits": 10000,
   "falseM": -100000,
   "mUnits": 10000
  },
  "lods": [
   {
    "level": 0,
    "resolution": 78109.09330483258,
    "scale": 2.952154707584223E8
   },
   {
    "level": 1,
    "resolution": 39054.54665241629,
    "scale": 1.4760773537921116E8
   },
   {
    "level": 2,
    "resolution": 19527.273326208146,
    "scale": 7.380386768960558E7
   },
   {
    "level": 3,
    "resolution": 9763.636663104073,
    "scale": 3.690193384480279E7
   },
   {
    "level": 4,
    "resolution": 4881.818331552036,
    "scale": 1.8450966922401395E7
   },
   {
    "level": 5,
    "resolution": 2440.909165776018,
    "scale": 9225483.461200697
   },
   {
    "level": 6,
    "resolution": 1220.454582888009,
    "scale": 4612741.730600349
   },
   {
    "level": 7,
    "resolution": 610.2272914440045,
    "scale": 2306370.8653001743
   },
   {
    "level": 8,
    "resolution": 305.1136457220023,
    "scale": 1153185.4326500872
   },
   {
    "level": 9,
    "resolution": 152.55682286100114,
    "scale": 576592.7163250436
   },
   {
    "level": 10,
    "resolution": 76.27841143050057,
    "scale": 288296.3581625218
   },
   {
    "level": 11,
    "resolution": 38.139205715250284,
    "scale": 144148.1790812609
   },
   {
    "level": 12,
    "resolution": 19.069602857625142,
    "scale": 72074.08954063045
   },
   {
    "level": 13,
    "resolution": 9.534801428812571,
    "scale": 36037.044770315224
   },
   {
    "level": 14,
    "resolution": 4.7674007144062855,
    "scale": 18018.522385157612
   },
   {
    "level": 15,
    "resolution": 2.3837003572031428,
    "scale": 9009.261192578806
   },
   {
    "level": 16,
    "resolution": 1.1918501786015714,
    "scale": 4504.630596289403
   },
   {
    "level": 17,
    "resolution": 0.5959250893007857,
    "scale": 2252.3152981447015
   },
   {
    "level": 18,
    "resolution": 0.29796254465039285,
    "scale": 1126.1576490723508
   },
   {
    "level": 19,
    "resolution": 0.14898127232519642,
    "scale": 563.0788245361754
   },
   {
    "level": 20,
    "resolution": 0.07449063616259821,
    "scale": 281.5394122680877
   },
   {
    "level": 21,
    "resolution": 0.037245318081299106,
    "scale": 140.76970613404384
   },
   {
    "level": 22,
    "resolution": 0.018622659040649553,
    "scale": 70.38485306702192
   },
   {
    "level": 23,
    "resolution": 0.009311329520324776,
    "scale": 35.19242653351096
   }
  ]
 },
 "storageInfo": {
  "storageFormat": "esriMapCacheStorageModeCompactV2",
  "packetSize": 128
 },
 "initialExtent": {
  "xmin": 511702.82488337,
  "ymin": 5002721.28995878,
  "xmax": 512527.5139735073,
  "ymax": 5003237.476773144,
  "spatialReference": {
   "wkid": 32632,
   "latestWkid": 32632,
   "xyTolerance": 0.001,
   "zTolerance": 0.001,
   "mTolerance": 0.001,
   "falseX": -5120900,
   "falseY": -9998100,
   "xyUnits": 4.504455473910538E8,
   "falseZ": -100000,
   "zUnits": 10000,
   "falseM": -100000,
   "mUnits": 10000
  }
 },
 "fullExtent": {
  "xmin": 506389.9323017495,
  "ymin": 4999459.743018247,
  "xmax": 519590.1323017495,
  "ymax": 5010679.943018247,
  "spatialReference": {
   "wkid": 32632,
   "latestWkid": 32632,
   "xyTolerance": 0.001,
   "zTolerance": 0.001,
   "mTolerance": 0.001,
   "falseX": -5120900,
   "falseY": -9998100,
   "xyUnits": 4.504455473910538E8,
   "falseZ": -100000,
   "zUnits": 10000,
   "falseM": -100000,
   "mUnits": 10000
  }
 },
 "datesInUnknownTimezone": false,
 "minScale": 144148.1790812609,
 "maxScale": 281.5394122680877,
 "minLOD": 11,
 "maxLOD": 20,
 "units": "esriMeters",
 "supportedImageFormatTypes": "PNG32,PNG24,PNG,JPG,DIB,TIFF,EMF,PS,PDF,GIF,SVG,SVGZ,BMP",
 "documentInfo": {
  "Title": "ortofoto.aprx",
  "Author": "",
  "Comments": "Ortofoto anno 2010 risoluzione scala 1:2000",
  "Subject": "Ortofoto anno 2010",
  "Category": "",
  "Version": "3.3.0",
  "AntialiasingMode": "Fast",
  "TextAntialiasingMode": "Force",
  "Keywords": "ortofoto"
 },
 "supportsQueryDomains": true,
 "capabilities": "Map",
 "supportedQueryFormats": "JSON, geoJSON, PBF",
 "exportTilesAllowed": false,
 "referenceScale": 0.0,
 "datumTransformations": [
  {
   "geoTransforms": [
    {
     "wkid": 108001,
     "latestWkid": 1241,
     "transformForward": true,
     "name": "NAD_1927_To_NAD_1983_NADCON"
    }
   ]
  },
  {
   "geoTransforms": [
    {
     "wkid": 108001,
     "latestWkid": 1241,
     "transformForward": false,
     "name": "NAD_1927_To_NAD_1983_NADCON"
    }
   ]
  }
 ],
 "supportsDatumTransformation": true,
 "floorAwareMapProperties": {
  "defaultFloorFilterSettings": {
   "isEnabled": false
  }
 },
 "archivingInfo": {
  "supportsHistoricMoment": false
 },
 "supportsClipping": true,
 "supportsSpatialFilter": true,
 "supportsTimeRelation": true,
 "supportsQueryDataElements": true,
 "mapUnits": {
  "uwkid": 9001
 },
 "maxRecordCount": 2000,
 "maxImageHeight": 4096,
 "maxImageWidth": 4096,
 "supportedExtensions": "",
 "serviceItemId": "c0bbe812789b4ae9865a72a66378c76c"
}
