{
 "currentVersion": 11.3,
 "cimVersion": "3.3.0",
 "serviceDescription": "DBT bianco nero",
 "mapName": "BaseBN3_sql",
 "description": "DBT bianco nero",
 "copyrightText": "",
 "supportsDynamicLayers": false,
 "layers": [
  {
   "id": 0,
   "name": "Numeri civici",
   "parentLayerId": -1,
   "defaultVisibility": true,
   "subLayerIds": null,
   "minScale": 1500,
   "maxScale": 0,
   "type": "Feature Layer",
   "geometryType": "esriGeometryPoint",
   "supportsDynamicLegends": true
  },
  {
   "id": 1,
   "name": "Confine",
   "parentLayerId": -1,
   "defaultVisibility": true,
   "subLayerIds": null,
   "minScale": 750000,
   "maxScale": 0,
   "type": "Feature Layer",
   "geometryType": "esriGeometryPolyline",
   "supportsDynamicLegends": true
  },
  {
   "id": 2,
   "name": "Linee strada",
   "parentLayerId": -1,
   "defaultVisibility": true,
   "subLayerIds": null,
   "minScale": 0,
   "maxScale": 10000,
   "type": "Feature Layer",
   "geometryType": "esriGeometryPolyline",
   "supportsDynamicLegends": true
  },
  {
   "id": 3,
   "name": "Viabilita",
   "parentLayerId": -1,
   "defaultVisibility": true,
   "subLayerIds": [
    4,
    5,
    6,
    7,
    8,
    9,
    10,
    11,
    12,
    13,
    14,
    15,
    16
   ],
   "minScale": 0,
   "maxScale": 0,
   "type": "Group Layer",
   "supportsDynamicLegends": false
  },
  {
   "id": 4,
   "name": "Linea elettrica",
   "parentLayerId": 3,
   "defaultVisibility": true,
   "subLayerIds": null,
   "minScale": 2000,
   "maxScale": 0,
   "type": "Feature Layer",
   "geometryType": "esriGeometryPolyline",
   "supportsDynamicLegends": true
  },
  {
   "id": 5,
   "name": "Vestizioni lineari",
   "parentLayerId": 3,
   "defaultVisibility": true,
   "subLayerIds": null,
   "minScale": 2000,
   "maxScale": 0,
   "type": "Feature Layer",
   "geometryType": "esriGeometryPolyline",
   "supportsDynamicLegends": true
  },
  {
   "id": 6,
   "name": "Rete ferroviaria",
   "parentLayerId": 3,
   "defaultVisibility": true,
   "subLayerIds": null,
   "minScale": 10000,
   "maxScale": 0,
   "type": "Feature Layer",
   "geometryType": "esriGeometryPolyline",
   "supportsDynamicLegends": true
  },
  {
   "id": 7,
   "name": "Area circolazione veicolare",
   "parentLayerId": 3,
   "defaultVisibility": true,
   "subLayerIds": null,
   "minScale": 10000,
   "maxScale": 0,
   "type": "Feature Layer",
   "geometryType": "esriGeometryPolygon",
   "supportsDynamicLegends": true
  },
  {
   "id": 8,
   "name": "Area stradale",
   "parentLayerId": 3,
   "defaultVisibility": true,
   "subLayerIds": null,
   "minScale": 10000,
   "maxScale": 0,
   "type": "Feature Layer",
   "geometryType": "esriGeometryPolygon",
   "supportsDynamicLegends": true
  },
  {
   "id": 9,
   "name": "Nomi Vie",
   "parentLayerId": 3,
   "defaultVisibility": true,
   "subLayerIds": null,
   "minScale": 16000,
   "maxScale": 0,
   "type": "Feature Layer",
   "geometryType": "esriGeometryPolygon",
   "supportsDynamicLegends": true
  },
  {
   "id": 10,
   "name": "Area circolazione pedonale",
   "parentLayerId": 3,
   "defaultVisibility": true,
   "subLayerIds": null,
   "minScale": 5000,
   "maxScale": 0,
   "type": "Feature Layer",
   "geometryType": "esriGeometryPolygon",
   "supportsDynamicLegends": true
  },
  {
   "id": 11,
   "name": "Pista ciclabile",
   "parentLayerId": 3,
   "defaultVisibility": true,
   "subLayerIds": null,
   "minScale": 10000,
   "maxScale": 0,
   "type": "Feature Layer",
   "geometryType": "esriGeometryPolygon",
   "supportsDynamicLegends": true
  },
  {
   "id": 12,
   "name": "Viabilità secondaria",
   "parentLayerId": 3,
   "defaultVisibility": true,
   "subLayerIds": null,
   "minScale": 10000,
   "maxScale": 0,
   "type": "Feature Layer",
   "geometryType": "esriGeometryPolygon",
   "supportsDynamicLegends": true
  },
  {
   "id": 13,
   "name": "Manufatto trasporto",
   "parentLayerId": 3,
   "defaultVisibility": true,
   "subLayerIds": null,
   "minScale": 5000,
   "maxScale": 0,
   "type": "Feature Layer",
   "geometryType": "esriGeometryPolygon",
   "supportsDynamicLegends": true
  },
  {
   "id": 14,
   "name": "Sede trasporto ferroviario",
   "parentLayerId": 3,
   "defaultVisibility": true,
   "subLayerIds": null,
   "minScale": 10000,
   "maxScale": 0,
   "type": "Feature Layer",
   "geometryType": "esriGeometryPolygon",
   "supportsDynamicLegends": true
  },
  {
   "id": 15,
   "name": "Opere infrastrutture trasporto",
   "parentLayerId": 3,
   "defaultVisibility": true,
   "subLayerIds": null,
   "minScale": 10000,
   "maxScale": 0,
   "type": "Feature Layer",
   "geometryType": "esriGeometryPolygon",
   "supportsDynamicLegends": true
  },
  {
   "id": 16,
   "name": "Galleria",
   "parentLayerId": 3,
   "defaultVisibility": true,
   "subLayerIds": null,
   "minScale": 10000,
   "maxScale": 0,
   "type": "Feature Layer",
   "geometryType": "esriGeometryPolygon",
   "supportsDynamicLegends": true
  },
  {
   "id": 17,
   "name": "Edificato",
   "parentLayerId": -1,
   "defaultVisibility": true,
   "subLayerIds": [
    18,
    19,
    20,
    21,
    22,
    23,
    24,
    25,
    26,
    27,
    28,
    29,
    30,
    31,
    32,
    33
   ],
   "minScale": 0,
   "maxScale": 0,
   "type": "Group Layer",
   "supportsDynamicLegends": false
  },
  {
   "id": 18,
   "name": "Vestizioni puntiformi",
   "parentLayerId": 17,
   "defaultVisibility": true,
   "subLayerIds": null,
   "minScale": 2000,
   "maxScale": 0,
   "type": "Feature Layer",
   "geometryType": "esriGeometryPoint",
   "supportsDynamicLegends": true
  },
  {
   "id": 19,
   "name": "Vestizioni lineari",
   "parentLayerId": 17,
   "defaultVisibility": true,
   "subLayerIds": null,
   "minScale": 2000,
   "maxScale": 0,
   "type": "Feature Layer",
   "geometryType": "esriGeometryPolyline",
   "supportsDynamicLegends": true
  },
  {
   "id": 20,
   "name": "Elemento divisorio",
   "parentLayerId": 17,
   "defaultVisibility": true,
   "subLayerIds": null,
   "minScale": 2000,
   "maxScale": 0,
   "type": "Feature Layer",
   "geometryType": "esriGeometryPolyline",
   "supportsDynamicLegends": true
  },
  {
   "id": 21,
   "name": "Area verde",
   "parentLayerId": 17,
   "defaultVisibility": true,
   "subLayerIds": null,
   "minScale": 5000,
   "maxScale": 0,
   "type": "Feature Layer",
   "geometryType": "esriGeometryPolygon",
   "supportsDynamicLegends": true
  },
  {
   "id": 22,
   "name": "Muro",
   "parentLayerId": 17,
   "defaultVisibility": true,
   "subLayerIds": null,
   "minScale": 5000,
   "maxScale": 0,
   "type": "Feature Layer",
   "geometryType": "esriGeometryPolygon",
   "supportsDynamicLegends": true
  },
  {
   "id": 23,
   "name": "Area attrezzata del suolo",
   "parentLayerId": 17,
   "defaultVisibility": true,
   "subLayerIds": null,
   "minScale": 5000,
   "maxScale": 0,
   "type": "Feature Layer",
   "geometryType": "esriGeometryPolygon",
   "supportsDynamicLegends": true
  },
  {
   "id": 24,
   "name": "Sostegno a traliccio",
   "parentLayerId": 17,
   "defaultVisibility": true,
   "subLayerIds": null,
   "minScale": 2000,
   "maxScale": 0,
   "type": "Feature Layer",
   "geometryType": "esriGeometryPolygon",
   "supportsDynamicLegends": true
  },
  {
   "id": 25,
   "name": "Attrezzatura sportiva",
   "parentLayerId": 17,
   "defaultVisibility": true,
   "subLayerIds": null,
   "minScale": 16000,
   "maxScale": 0,
   "type": "Feature Layer",
   "geometryType": "esriGeometryPolygon",
   "supportsDynamicLegends": true
  },
  {
   "id": 26,
   "name": "Manufatto monumentale",
   "parentLayerId": 17,
   "defaultVisibility": true,
   "subLayerIds": null,
   "minScale": 5000,
   "maxScale": 0,
   "type": "Feature Layer",
   "geometryType": "esriGeometryPolygon",
   "supportsDynamicLegends": true
  },
  {
   "id": 27,
   "name": "Manufatto industriale",
   "parentLayerId": 17,
   "defaultVisibility": true,
   "subLayerIds": null,
   "minScale": 5000,
   "maxScale": 0,
   "type": "Feature Layer",
   "geometryType": "esriGeometryPolygon",
   "supportsDynamicLegends": true
  },
  {
   "id": 28,
   "name": "Muro di sostegno",
   "parentLayerId": 17,
   "defaultVisibility": true,
   "subLayerIds": null,
   "minScale": 5000,
   "maxScale": 0,
   "type": "Feature Layer",
   "geometryType": "esriGeometryPolygon",
   "supportsDynamicLegends": true
  },
  {
   "id": 29,
   "name": "Argine",
   "parentLayerId": 17,
   "defaultVisibility": true,
   "subLayerIds": null,
   "minScale": 5000,
   "maxScale": 0,
   "type": "Feature Layer",
   "geometryType": "esriGeometryPolygon",
   "supportsDynamicLegends": true
  },
  {
   "id": 30,
   "name": "Unità volumetriche",
   "parentLayerId": 17,
   "defaultVisibility": true,
   "subLayerIds": null,
   "minScale": 10000,
   "maxScale": 0,
   "type": "Feature Layer",
   "geometryType": "esriGeometryPolygon",
   "supportsDynamicLegends": true
  },
  {
   "id": 31,
   "name": "Edifici minori",
   "parentLayerId": 17,
   "defaultVisibility": true,
   "subLayerIds": null,
   "minScale": 32000,
   "maxScale": 0,
   "type": "Feature Layer",
   "geometryType": "esriGeometryPolygon",
   "supportsDynamicLegends": true
  },
  {
   "id": 32,
   "name": "Edifici",
   "parentLayerId": 17,
   "defaultVisibility": true,
   "subLayerIds": null,
   "minScale": 10000,
   "maxScale": 0,
   "type": "Feature Layer",
   "geometryType": "esriGeometryPolygon",
   "supportsDynamicLegends": true
  },
  {
   "id": 33,
   "name": "Area in trasformazione",
   "parentLayerId": 17,
   "defaultVisibility": true,
   "subLayerIds": null,
   "minScale": 5000,
   "maxScale": 0,
   "type": "Feature Layer",
   "geometryType": "esriGeometryPolygon",
   "supportsDynamicLegends": true
  },
  {
   "id": 34,
   "name": "Ambiente",
   "parentLayerId": -1,
   "defaultVisibility": true,
   "subLayerIds": [
    35,
    36,
    37,
    38,
    39,
    40,
    41,
    42
   ],
   "minScale": 0,
   "maxScale": 0,
   "type": "Group Layer",
   "supportsDynamicLegends": false
  },
  {
   "id": 35,
   "name": "albero",
   "parentLayerId": 34,
   "defaultVisibility": true,
   "subLayerIds": null,
   "minScale": 2000,
   "maxScale": 0,
   "type": "Feature Layer",
   "geometryType": "esriGeometryPoint",
   "supportsDynamicLegends": true
  },
  {
   "id": 36,
   "name": "Forme nat terreno",
   "parentLayerId": 34,
   "defaultVisibility": true,
   "subLayerIds": null,
   "minScale": 32000,
   "maxScale": 0,
   "type": "Feature Layer",
   "geometryType": "esriGeometryPolygon",
   "supportsDynamicLegends": true
  },
  {
   "id": 37,
   "name": "Bosco",
   "parentLayerId": 34,
   "defaultVisibility": true,
   "subLayerIds": null,
   "minScale": 32000,
   "maxScale": 0,
   "type": "Feature Layer",
   "geometryType": "esriGeometryPolygon",
   "supportsDynamicLegends": true
  },
  {
   "id": 38,
   "name": "Formazione particolare",
   "parentLayerId": 34,
   "defaultVisibility": true,
   "subLayerIds": null,
   "minScale": 32000,
   "maxScale": 0,
   "type": "Feature Layer",
   "geometryType": "esriGeometryPolygon",
   "supportsDynamicLegends": true
  },
  {
   "id": 39,
   "name": "Pascolo o incolto",
   "parentLayerId": 34,
   "defaultVisibility": true,
   "subLayerIds": null,
   "minScale": 32000,
   "maxScale": 0,
   "type": "Feature Layer",
   "geometryType": "esriGeometryPolygon",
   "supportsDynamicLegends": true
  },
  {
   "id": 40,
   "name": "Coltura agricola",
   "parentLayerId": 34,
   "defaultVisibility": true,
   "subLayerIds": null,
   "minScale": 32000,
   "maxScale": 0,
   "type": "Feature Layer",
   "geometryType": "esriGeometryPolygon",
   "supportsDynamicLegends": true
  },
  {
   "id": 41,
   "name": "Corso d'acqua",
   "parentLayerId": 34,
   "defaultVisibility": true,
   "subLayerIds": null,
   "minScale": 100000,
   "maxScale": 0,
   "type": "Feature Layer",
   "geometryType": "esriGeometryPolygon",
   "supportsDynamicLegends": true
  },
  {
   "id": 42,
   "name": "Specchio d'acqua",
   "parentLayerId": 34,
   "defaultVisibility": true,
   "subLayerIds": null,
   "minScale": 100000,
   "maxScale": 0,
   "type": "Feature Layer",
   "geometryType": "esriGeometryPolygon",
   "supportsDynamicLegends": true
  },
  {
   "id": 43,
   "name": "Area comunale",
   "parentLayerId": -1,
   "defaultVisibility": true,
   "subLayerIds": null,
   "minScale": 750000,
   "maxScale": 0,
   "type": "Feature Layer",
   "geometryType": "esriGeometryPolygon",
   "supportsDynamicLegends": true
  }
 ],
 "tables": [
  {
   "id": 44,
   "name": "T030101",
   "type": "Table"
  }
 ],
 "spatialReference": {
  "wkid": 32632,
  "latestWkid": 32632,
  "xyTolerance": 0.001,
  "zTolerance": 0.001,
  "mTolerance": 0.001,
  "falseX": -5120900,
  "falseY": -9998100,
  "xyUnits": 10000,
  "falseZ": -100000,
  "zUnits": 10000,
  "falseM": -100000,
  "mUnits": 10000
 },
 "singleFusedMapCache": true,
 "tileInfo": {
  "rows": 256,
  "cols": 256,
  "dpi": 96,
  "format": "PNG",
  "compressionQuality": 0,
  "origin": {
   "x": -9497963.94301857,
   "y": 9997963.94301857
  },
  "spatialReference": {
   "wkid": 32632,
   "latestWkid": 32632,
   "xyTolerance": 0.001,
   "zTolerance": 0.001,
   "mTolerance": 0.001,
   "falseX": -5120900,
   "falseY": -9998100,
   "xyUnits": 4.504455473910538E8,
   "falseZ": -100000,
   "zUnits": 10000,
   "falseM": -100000,
   "mUnits": 10000
  },
  "lods": [
   {
    "level": 0,
    "resolution": 78109.09330483258,
    "scale": 2.952154707584223E8
   },
   {
    "level": 1,
    "resolution": 39054.54665241629,
    "scale": 1.4760773537921116E8
   },
   {
    "level": 2,
    "resolution": 19527.273326208146,
    "scale": 7.380386768960558E7
   },
   {
    "level": 3,
    "resolution": 9763.636663104073,
    "scale": 3.690193384480279E7
   },
   {
    "level": 4,
    "resolution": 4881.818331552036,
    "scale": 1.8450966922401395E7
   },
   {
    "level": 5,
    "resolution": 2440.909165776018,
    "scale": 9225483.461200697
   },
   {
    "level": 6,
    "resolution": 1220.454582888009,
    "scale": 4612741.730600349
   },
   {
    "level": 7,
    "resolution": 610.2272914440045,
    "scale": 2306370.8653001743
   },
   {
    "level": 8,
    "resolution": 305.1136457220023,
    "scale": 1153185.4326500872
   },
   {
    "level": 9,
    "resolution": 152.55682286100114,
    "scale": 576592.7163250436
   },
   {
    "level": 10,
    "resolution": 76.27841143050057,
    "scale": 288296.3581625218
   },
   {
    "level": 11,
    "resolution": 38.139205715250284,
    "scale": 144148.1790812609
   },
   {
    "level": 12,
    "resolution": 19.069602857625142,
    "scale": 72074.08954063045
   },
   {
    "level": 13,
    "resolution": 9.534801428812571,
    "scale": 36037.044770315224
   },
   {
    "level": 14,
    "resolution": 4.7674007144062855,
    "scale": 18018.522385157612
   },
   {
    "level": 15,
    "resolution": 2.3837003572031428,
    "scale": 9009.261192578806
   },
   {
    "level": 16,
    "resolution": 1.1918501786015714,
    "scale": 4504.630596289403
   },
   {
    "level": 17,
    "resolution": 0.5959250893007857,
    "scale": 2252.3152981447015
   },
   {
    "level": 18,
    "resolution": 0.29796254465039285,
    "scale": 1126.1576490723508
   },
   {
    "level": 19,
    "resolution": 0.14898127232519642,
    "scale": 563.0788245361754
   },
   {
    "level": 20,
    "resolution": 0.07449063616259821,
    "scale": 281.5394122680877
   },
   {
    "level": 21,
    "resolution": 0.037245318081299106,
    "scale": 140.76970613404384
   },
   {
    "level": 22,
    "resolution": 0.018622659040649553,
    "scale": 70.38485306702192
   },
   {
    "level": 23,
    "resolution": 0.009311329520324776,
    "scale": 35.19242653351096
   }
  ]
 },
 "storageInfo": {
  "storageFormat": "esriMapCacheStorageModeCompactV2",
  "packetSize": 128
 },
 "initialExtent": {
  "xmin": 511955.6846670246,
  "ymin": 5003763.139299852,
  "xmax": 513132.73274954775,
  "ymax": 5004362.2913147705,
  "spatialReference": {
   "wkid": 32632,
   "latestWkid": 32632,
   "xyTolerance": 0.001,
   "zTolerance": 0.001,
   "mTolerance": 0.001,
   "falseX": -5120900,
   "falseY": -9998100,
   "xyUnits": 10000,
   "falseZ": -100000,
   "zUnits": 10000,
   "falseM": -100000,
   "mUnits": 10000
  }
 },
 "fullExtent": {
  "xmin": 507078.1564999996,
  "ymin": 5000222.0316,
  "xmax": 518994.32380000036,
  "ymax": 5012773.5243999995,
  "spatialReference": {
   "wkid": 32632,
   "latestWkid": 32632,
   "xyTolerance": 0.001,
   "zTolerance": 0.001,
   "mTolerance": 0.001,
   "falseX": -5120900,
   "falseY": -9998100,
   "xyUnits": 10000,
   "falseZ": -100000,
   "zUnits": 10000,
   "falseM": -100000,
   "mUnits": 10000
  }
 },
 "datesInUnknownTimezone": false,
 "minScale": 144148.1790812609,
 "maxScale": 281.5394122680877,
 "minLOD": 11,
 "maxLOD": 20,
 "units": "esriMeters",
 "supportedImageFormatTypes": "PNG32,PNG24,PNG,JPG,DIB,TIFF,EMF,PS,PDF,GIF,SVG,SVGZ,BMP",
 "documentInfo": {
  "Title": "Carta_Base",
  "Author": "",
  "Comments": "DBT bianco nero",
  "Subject": "DBT bianco nero",
  "Category": "",
  "Version": "3.3.0",
  "AntialiasingMode": "Fast",
  "TextAntialiasingMode": "Force",
  "Keywords": "DBT"
 },
 "supportsQueryDomains": true,
 "capabilities": "Map,Query,Data",
 "supportedQueryFormats": "JSON, geoJSON, PBF",
 "hasVersionedData": true,
 "exportTilesAllowed": false,
 "referenceScale": 0.0,
 "datumTransformations": [
  {
   "geoTransforms": [
    {
     "wkid": 108001,
     "latestWkid": 1241,
     "transformForward": true,
     "name": "NAD_1927_To_NAD_1983_NADCON"
    }
   ]
  },
  {
   "geoTransforms": [
    {
     "wkid": 108001,
     "latestWkid": 1241,
     "transformForward": false,
     "name": "NAD_1927_To_NAD_1983_NADCON"
    }
   ]
  }
 ],
 "supportsDatumTransformation": true,
 "archivingInfo": {
  "supportsHistoricMoment": false
 },
 "supportsClipping": true,
 "supportsSpatialFilter": true,
 "supportsTimeRelation": true,
 "supportsQueryDataElements": true,
 "mapUnits": {
  "uwkid": 9001
 },
 "maxRecordCount": 2000,
 "maxImageHeight": 4096,
 "maxImageWidth": 4096,
 "supportedExtensions": "",
 "serviceItemId": "340cf9d9a5eb4d3d9345a3a8390865f4"
}
